<p>BEGIN:VCALENDAR
VERSION:2.0
PRODID:-//New Orleans City Park - ECPv6.15.0//NONSGML v1.0//EN
CALSCALE:GREGORIAN
METHOD:PUBLISH
X-WR-CALNAME:New Orleans City Park
X-ORIGINAL-URL:https://neworleanscitypark.org
X-WR-CALDESC:Events for New Orleans City Park
REFRESH-INTERVAL;VALUE=DURATION:PT1H
X-Robots-Tag:noindex
X-PUBLISHED-TTL:PT1H
BEGIN:VTIMEZONE
TZID:America/Chicago
BEGIN:DAYLIGHT
TZOFFSETFROM:-0600
TZOFFSETTO:-0500
TZNAME:CDT
DTSTART:20260308T080000
END:DAYLIGHT
BEGIN:STANDARD
TZOFFSETFROM:-0500
TZOFFSETTO:-0600
TZNAME:CST
DTSTART:20261101T070000
END:STANDARD
END:VTIMEZONE
BEGIN:VEVENT
DTSTART;TZID=America/Chicago:20260423T180000
DTEND;TZID=America/Chicago:20260423T203000
DTSTAMP:20260422T033233
CREATED:20260224T033650Z
LAST-MODIFIED:20260226T050343Z
UID:10003532-1776967200-1776976200@neworleanscitypark.org
SUMMARY:Thursdays at Twilight
DESCRIPTION:
URL:https://neworleanscitypark.org/event/thursdays-at-twilight/2026-04-23/
CATEGORIES:Food,Music
ATTACH;FMTTYPE=image/jpeg:https://neworleanscitypark.org/wp-content/uploads/2022/07/Thursdays-at-Twilight-2018-5_Low.jpg
END:VEVENT
BEGIN:VEVENT
DTSTART;TZID=America/Chicago:20260507T180000
DTEND;TZID=America/Chicago:20260507T200000
DTSTAMP:20260422T033233
CREATED:20260224T033650Z
LAST-MODIFIED:20260226T050343Z
UID:10003533-1778176800-1778184000@neworleanscitypark.org
SUMMARY:Thursdays at Twilight
DESCRIPTION:
URL:https://neworleanscitypark.org/event/thursdays-at-twilight/2026-05-07/
CATEGORIES:Food,Music
ATTACH;FMTTYPE=image/jpeg:https://neworleanscitypark.org/wp-content/uploads/2022/07/Thursdays-at-Twilight-2018-5_Low.jpg
END:VEVENT
BEGIN:VEVENT
DTSTART;TZID=America/Chicago:20260514T180000
DTEND;TZID=America/Chicago:20260514T200000
DTSTAMP:20260422T033233
CREATED:20260224T033650Z
LAST-MODIFIED:20260226T050343Z
UID:10003534-1778781600-1778788800@neworleanscitypark.org
SUMMARY:Thursdays at Twilight
DESCRIPTION:
URL:https://neworleanscitypark.org/event/thursdays-at-twilight/2026-05-14/
CATEGORIES:Food,Music
ATTACH;FMTTYPE=image/jpeg:https://neworleanscitypark.org/wp-content/uploads/2022/07/Thursdays-at-Twilight-2018-5_Low.jpg
END:VEVENT
BEGIN:VEVENT
DTSTART;TZID=America/Chicago:20260521T180000
DTEND;TZID=America/Chicago:20260521T200000
DTSTAMP:20260422T033233
CREATED:20260224T033650Z
LAST-MODIFIED:20260226T050343Z
UID:10003535-1779386400-1779393600@neworleanscitypark.org
SUMMARY:Thursdays at Twilight
DESCRIPTION:
URL:https://neworleanscitypark.org/event/thursdays-at-twilight/2026-05-21/
CATEGORIES:Food,Music
ATTACH;FMTTYPE=image/jpeg:https://neworleanscitypark.org/wp-content/uploads/2022/07/Thursdays-at-Twilight-2018-5_Low.jpg
END:VEVENT
BEGIN:VEVENT
DTSTART;TZID=America/Chicago:20260528T180000
DTEND;TZID=America/Chicago:20260528T200000
DTSTAMP:20260422T033233
CREATED:20260224T033650Z
LAST-MODIFIED:20260226T050343Z
UID:10003536-1779991200-1779998400@neworleanscitypark.org
SUMMARY:Thursdays at Twilight
DESCRIPTION:
URL:https://neworleanscitypark.org/event/thursdays-at-twilight/2026-05-28/
CATEGORIES:Food,Music
ATTACH;FMTTYPE=image/jpeg:https://neworleanscitypark.org/wp-content/uploads/2022/07/Thursdays-at-Twilight-2018-5_Low.jpg
END:VEVENT
BEGIN:VEVENT
DTSTART;TZID=America/Chicago:20260604T180000
DTEND;TZID=America/Chicago:20260604T200000
DTSTAMP:20260422T033233
CREATED:20260224T033650Z
LAST-MODIFIED:20260226T050343Z
UID:10003537-1780596000-1780603200@neworleanscitypark.org
SUMMARY:Thursdays at Twilight
DESCRIPTION:
URL:https://neworleanscitypark.org/event/thursdays-at-twilight/2026-06-04/
CATEGORIES:Food,Music
ATTACH;FMTTYPE=image/jpeg:https://neworleanscitypark.org/wp-content/uploads/2022/07/Thursdays-at-Twilight-2018-5_Low.jpg
END:VEVENT
BEGIN:VEVENT
DTSTART;TZID=America/Chicago:20260611T180000
DTEND;TZID=America/Chicago:20260611T200000
DTSTAMP:20260422T033233
CREATED:20260224T033650Z
LAST-MODIFIED:20260226T050343Z
UID:10003538-1781200800-1781208000@neworleanscitypark.org
SUMMARY:Thursdays at Twilight
DESCRIPTION:
URL:https://neworleanscitypark.org/event/thursdays-at-twilight/2026-06-11/
CATEGORIES:Food,Music
ATTACH;FMTTYPE=image/jpeg:https://neworleanscitypark.org/wp-content/uploads/2022/07/Thursdays-at-Twilight-2018-5_Low.jpg
END:VEVENT
END:VCALENDAR</p>
